BEGIN:VCALENDAR
VERSION:2.0
PRODID:-//ASNT Pittsburgh - ECPv6.0.12//NONSGML v1.0//EN
CALSCALE:GREGORIAN
METHOD:PUBLISH
X-ORIGINAL-URL:https://pittasnt.org
X-WR-CALDESC:Events for ASNT Pittsburgh
REFRESH-INTERVAL;VALUE=DURATION:PT1H
X-Robots-Tag:noindex
X-PUBLISHED-TTL:PT1H
BEGIN:VTIMEZONE
TZID:America/New_York
BEGIN:DAYLIGHT
TZOFFSETFROM:-0500
TZOFFSETTO:-0400
TZNAME:EDT
DTSTART:20200308T070000
END:DAYLIGHT
BEGIN:STANDARD
TZOFFSETFROM:-0400
TZOFFSETTO:-0500
TZNAME:EST
DTSTART:20201101T060000
END:STANDARD
END:VTIMEZONE
BEGIN:VEVENT
DTSTART;TZID=America/New_York:20201119T173000
DTEND;TZID=America/New_York:20201119T210000
DTSTAMP:20260419T235517
CREATED:20201102T041935Z
LAST-MODIFIED:20201103T002353Z
UID:259-1605807000-1605819600@pittasnt.org
SUMMARY:LED/UV Technology at Springfield Grille (5:30 PM - 9:00 PM)
DESCRIPTION:Please join us for the second technical meeting of the fall! It will be held on Thursday\, November 19th at Springfield Grille\, which is located at 7001 Crider Road\, Mars\, PA 16046. \nThe social will start at 5:30 PM with dinner\, and presentation on LED/UV Technology by Tony Sansavera with Test Equipment Distributors will follow at 6:00 PM. \nIf you will be attending the meeting\, please RSVP with Alan Andrews\, ASNT Pittsburgh Social Chairman\, by e-mail at aandrews@elwd.com \nHope to see you there!
URL:https://pittasnt.org/event/nov-2020-event/
LOCATION:PA
END:VEVENT
END:VCALENDAR